BEGIN:VCALENDAR
VERSION:2.0
PRODID:-//City of Arcadia - ECPv6.15.18//NONSGML v1.0//EN
CALSCALE:GREGORIAN
METHOD:PUBLISH
X-WR-CALNAME:City of Arcadia
X-ORIGINAL-URL:https://www.cityofarcadiawi.gov
X-WR-CALDESC:Events for City of Arcadia
REFRESH-INTERVAL;VALUE=DURATION:PT1H
X-Robots-Tag:noindex
X-PUBLISHED-TTL:PT1H
BEGIN:VTIMEZONE
TZID:America/Chicago
BEGIN:DAYLIGHT
TZOFFSETFROM:-0600
TZOFFSETTO:-0500
TZNAME:CDT
DTSTART:20280312T080000
END:DAYLIGHT
BEGIN:STANDARD
TZOFFSETFROM:-0500
TZOFFSETTO:-0600
TZNAME:CST
DTSTART:20281105T070000
END:STANDARD
BEGIN:DAYLIGHT
TZOFFSETFROM:-0600
TZOFFSETTO:-0500
TZNAME:CDT
DTSTART:20290311T080000
END:DAYLIGHT
BEGIN:STANDARD
TZOFFSETFROM:-0500
TZOFFSETTO:-0600
TZNAME:CST
DTSTART:20291104T070000
END:STANDARD
BEGIN:DAYLIGHT
TZOFFSETFROM:-0600
TZOFFSETTO:-0500
TZNAME:CDT
DTSTART:20300310T080000
END:DAYLIGHT
BEGIN:STANDARD
TZOFFSETFROM:-0500
TZOFFSETTO:-0600
TZNAME:CST
DTSTART:20301103T070000
END:STANDARD
BEGIN:DAYLIGHT
TZOFFSETFROM:-0600
TZOFFSETTO:-0500
TZNAME:CDT
DTSTART:20310309T080000
END:DAYLIGHT
BEGIN:STANDARD
TZOFFSETFROM:-0500
TZOFFSETTO:-0600
TZNAME:CST
DTSTART:20311102T070000
END:STANDARD
END:VTIMEZONE
BEGIN:VEVENT
DTSTART;TZID=America/Chicago:20291010T170000
DTEND;TZID=America/Chicago:20291010T200000
DTSTAMP:20260419T153348
CREATED:20251020T162504Z
LAST-MODIFIED:20251119T171015Z
UID:10000299-1886346000-1886356800@www.cityofarcadiawi.gov
SUMMARY:Municipal Court
DESCRIPTION:
URL:https://www.cityofarcadiawi.gov/event/municipal-court/2029-10-10/
LOCATION:Arcadia City Hall\, 945 Dettloff Dr\, Arcadia\, WI\, 54612
CATEGORIES:Public Meetings
ATTACH;FMTTYPE=image/jpeg:https://www.cityofarcadiawi.gov/wp-content/uploads/municipal-court-featured.jpg
END:VEVENT
BEGIN:VEVENT
DTSTART;TZID=America/Chicago:20291017T170000
DTEND;TZID=America/Chicago:20291017T183000
DTSTAMP:20260419T153348
CREATED:20260106T192427Z
LAST-MODIFIED:20260106T192516Z
UID:10000575-1886950800-1886956200@www.cityofarcadiawi.gov
SUMMARY:City Council Meeting
DESCRIPTION:
URL:https://www.cityofarcadiawi.gov/event/city-council-meeting-3/2029-10-17/
LOCATION:Arcadia City Hall\, 945 Dettloff Dr\, Arcadia\, WI\, 54612
CATEGORIES:City Council Meetings
ATTACH;FMTTYPE=image/jpeg:https://www.cityofarcadiawi.gov/wp-content/uploads/city-council-meeting-featured.jpg
END:VEVENT
BEGIN:VEVENT
DTSTART;TZID=America/Chicago:20291107T083000
DTEND;TZID=America/Chicago:20291107T100000
DTSTAMP:20260419T153349
CREATED:20251020T161419Z
LAST-MODIFIED:20251119T171138Z
UID:10000050-1888734600-1888740000@www.cityofarcadiawi.gov
SUMMARY:Utility Commission Meeting
DESCRIPTION:
URL:https://www.cityofarcadiawi.gov/event/utility-commission-meeting/2029-11-07/
LOCATION:Arcadia City Hall\, 945 Dettloff Dr\, Arcadia\, WI\, 54612
CATEGORIES:Public Meetings
ATTACH;FMTTYPE=image/jpeg:https://www.cityofarcadiawi.gov/wp-content/uploads/utility-commision-meeting-featured.jpg
END:VEVENT
BEGIN:VEVENT
DTSTART;TZID=America/Chicago:20291107T170000
DTEND;TZID=America/Chicago:20291107T183000
DTSTAMP:20260419T153349
CREATED:20260106T192123Z
LAST-MODIFIED:20260106T192511Z
UID:10000410-1888765200-1888770600@www.cityofarcadiawi.gov
SUMMARY:City Council Meeting
DESCRIPTION:
URL:https://www.cityofarcadiawi.gov/event/city-council-meeting-1/2029-11-07/
LOCATION:Arcadia City Hall\, 945 Dettloff Dr\, Arcadia\, WI\, 54612
CATEGORIES:City Council Meetings
ATTACH;FMTTYPE=image/jpeg:https://www.cityofarcadiawi.gov/wp-content/uploads/city-council-meeting-featured.jpg
END:VEVENT
BEGIN:VEVENT
DTSTART;TZID=America/Chicago:20291114T170000
DTEND;TZID=America/Chicago:20291114T200000
DTSTAMP:20260419T153349
CREATED:20251020T162504Z
LAST-MODIFIED:20251119T171015Z
UID:10000300-1889370000-1889380800@www.cityofarcadiawi.gov
SUMMARY:Municipal Court
DESCRIPTION:
URL:https://www.cityofarcadiawi.gov/event/municipal-court/2029-11-14/
LOCATION:Arcadia City Hall\, 945 Dettloff Dr\, Arcadia\, WI\, 54612
CATEGORIES:Public Meetings
ATTACH;FMTTYPE=image/jpeg:https://www.cityofarcadiawi.gov/wp-content/uploads/municipal-court-featured.jpg
END:VEVENT
BEGIN:VEVENT
DTSTART;TZID=America/Chicago:20291121T170000
DTEND;TZID=America/Chicago:20291121T183000
DTSTAMP:20260419T153349
CREATED:20260106T192427Z
LAST-MODIFIED:20260106T192516Z
UID:10000576-1889974800-1889980200@www.cityofarcadiawi.gov
SUMMARY:City Council Meeting
DESCRIPTION:
URL:https://www.cityofarcadiawi.gov/event/city-council-meeting-3/2029-11-21/
LOCATION:Arcadia City Hall\, 945 Dettloff Dr\, Arcadia\, WI\, 54612
CATEGORIES:City Council Meetings
ATTACH;FMTTYPE=image/jpeg:https://www.cityofarcadiawi.gov/wp-content/uploads/city-council-meeting-featured.jpg
END:VEVENT
BEGIN:VEVENT
DTSTART;TZID=America/Chicago:20291205T083000
DTEND;TZID=America/Chicago:20291205T100000
DTSTAMP:20260419T153349
CREATED:20251020T161419Z
LAST-MODIFIED:20251119T171138Z
UID:10000051-1891153800-1891159200@www.cityofarcadiawi.gov
SUMMARY:Utility Commission Meeting
DESCRIPTION:
URL:https://www.cityofarcadiawi.gov/event/utility-commission-meeting/2029-12-05/
LOCATION:Arcadia City Hall\, 945 Dettloff Dr\, Arcadia\, WI\, 54612
CATEGORIES:Public Meetings
ATTACH;FMTTYPE=image/jpeg:https://www.cityofarcadiawi.gov/wp-content/uploads/utility-commision-meeting-featured.jpg
END:VEVENT
BEGIN:VEVENT
DTSTART;TZID=America/Chicago:20291205T170000
DTEND;TZID=America/Chicago:20291205T183000
DTSTAMP:20260419T153349
CREATED:20260106T192123Z
LAST-MODIFIED:20260106T192511Z
UID:10000412-1891184400-1891189800@www.cityofarcadiawi.gov
SUMMARY:City Council Meeting
DESCRIPTION:
URL:https://www.cityofarcadiawi.gov/event/city-council-meeting-1/2029-12-05/
LOCATION:Arcadia City Hall\, 945 Dettloff Dr\, Arcadia\, WI\, 54612
CATEGORIES:City Council Meetings
ATTACH;FMTTYPE=image/jpeg:https://www.cityofarcadiawi.gov/wp-content/uploads/city-council-meeting-featured.jpg
END:VEVENT
BEGIN:VEVENT
DTSTART;TZID=America/Chicago:20291212T170000
DTEND;TZID=America/Chicago:20291212T200000
DTSTAMP:20260419T153349
CREATED:20251020T162504Z
LAST-MODIFIED:20251119T171015Z
UID:10000301-1891789200-1891800000@www.cityofarcadiawi.gov
SUMMARY:Municipal Court
DESCRIPTION:
URL:https://www.cityofarcadiawi.gov/event/municipal-court/2029-12-12/
LOCATION:Arcadia City Hall\, 945 Dettloff Dr\, Arcadia\, WI\, 54612
CATEGORIES:Public Meetings
ATTACH;FMTTYPE=image/jpeg:https://www.cityofarcadiawi.gov/wp-content/uploads/municipal-court-featured.jpg
END:VEVENT
BEGIN:VEVENT
DTSTART;TZID=America/Chicago:20291219T170000
DTEND;TZID=America/Chicago:20291219T183000
DTSTAMP:20260419T153349
CREATED:20260106T192427Z
LAST-MODIFIED:20260106T192516Z
UID:10000577-1892394000-1892399400@www.cityofarcadiawi.gov
SUMMARY:City Council Meeting
DESCRIPTION:
URL:https://www.cityofarcadiawi.gov/event/city-council-meeting-3/2029-12-19/
LOCATION:Arcadia City Hall\, 945 Dettloff Dr\, Arcadia\, WI\, 54612
CATEGORIES:City Council Meetings
ATTACH;FMTTYPE=image/jpeg:https://www.cityofarcadiawi.gov/wp-content/uploads/city-council-meeting-featured.jpg
END:VEVENT
BEGIN:VEVENT
DTSTART;TZID=America/Chicago:20300102T083000
DTEND;TZID=America/Chicago:20300102T100000
DTSTAMP:20260419T153349
CREATED:20251020T161419Z
LAST-MODIFIED:20251119T171138Z
UID:10000052-1893573000-1893578400@www.cityofarcadiawi.gov
SUMMARY:Utility Commission Meeting
DESCRIPTION:
URL:https://www.cityofarcadiawi.gov/event/utility-commission-meeting/2030-01-02/
LOCATION:Arcadia City Hall\, 945 Dettloff Dr\, Arcadia\, WI\, 54612
CATEGORIES:Public Meetings
ATTACH;FMTTYPE=image/jpeg:https://www.cityofarcadiawi.gov/wp-content/uploads/utility-commision-meeting-featured.jpg
END:VEVENT
BEGIN:VEVENT
DTSTART;TZID=America/Chicago:20300102T170000
DTEND;TZID=America/Chicago:20300102T183000
DTSTAMP:20260419T153349
CREATED:20260106T192123Z
LAST-MODIFIED:20260106T192511Z
UID:10000414-1893603600-1893609000@www.cityofarcadiawi.gov
SUMMARY:City Council Meeting
DESCRIPTION:
URL:https://www.cityofarcadiawi.gov/event/city-council-meeting-1/2030-01-02/
LOCATION:Arcadia City Hall\, 945 Dettloff Dr\, Arcadia\, WI\, 54612
CATEGORIES:City Council Meetings
ATTACH;FMTTYPE=image/jpeg:https://www.cityofarcadiawi.gov/wp-content/uploads/city-council-meeting-featured.jpg
END:VEVENT
BEGIN:VEVENT
DTSTART;TZID=America/Chicago:20300109T170000
DTEND;TZID=America/Chicago:20300109T200000
DTSTAMP:20260419T153349
CREATED:20251020T162504Z
LAST-MODIFIED:20251119T171015Z
UID:10000302-1894208400-1894219200@www.cityofarcadiawi.gov
SUMMARY:Municipal Court
DESCRIPTION:
URL:https://www.cityofarcadiawi.gov/event/municipal-court/2030-01-09/
LOCATION:Arcadia City Hall\, 945 Dettloff Dr\, Arcadia\, WI\, 54612
CATEGORIES:Public Meetings
ATTACH;FMTTYPE=image/jpeg:https://www.cityofarcadiawi.gov/wp-content/uploads/municipal-court-featured.jpg
END:VEVENT
BEGIN:VEVENT
DTSTART;TZID=America/Chicago:20300116T170000
DTEND;TZID=America/Chicago:20300116T183000
DTSTAMP:20260419T153349
CREATED:20260106T192427Z
LAST-MODIFIED:20260106T192516Z
UID:10000578-1894813200-1894818600@www.cityofarcadiawi.gov
SUMMARY:City Council Meeting
DESCRIPTION:
URL:https://www.cityofarcadiawi.gov/event/city-council-meeting-3/2030-01-16/
LOCATION:Arcadia City Hall\, 945 Dettloff Dr\, Arcadia\, WI\, 54612
CATEGORIES:City Council Meetings
ATTACH;FMTTYPE=image/jpeg:https://www.cityofarcadiawi.gov/wp-content/uploads/city-council-meeting-featured.jpg
END:VEVENT
BEGIN:VEVENT
DTSTART;TZID=America/Chicago:20300206T083000
DTEND;TZID=America/Chicago:20300206T100000
DTSTAMP:20260419T153349
CREATED:20251020T161419Z
LAST-MODIFIED:20251119T171138Z
UID:10000053-1896597000-1896602400@www.cityofarcadiawi.gov
SUMMARY:Utility Commission Meeting
DESCRIPTION:
URL:https://www.cityofarcadiawi.gov/event/utility-commission-meeting/2030-02-06/
LOCATION:Arcadia City Hall\, 945 Dettloff Dr\, Arcadia\, WI\, 54612
CATEGORIES:Public Meetings
ATTACH;FMTTYPE=image/jpeg:https://www.cityofarcadiawi.gov/wp-content/uploads/utility-commision-meeting-featured.jpg
END:VEVENT
BEGIN:VEVENT
DTSTART;TZID=America/Chicago:20300206T170000
DTEND;TZID=America/Chicago:20300206T183000
DTSTAMP:20260419T153349
CREATED:20260106T192123Z
LAST-MODIFIED:20260106T192511Z
UID:10000462-1896627600-1896633000@www.cityofarcadiawi.gov
SUMMARY:City Council Meeting
DESCRIPTION:
URL:https://www.cityofarcadiawi.gov/event/city-council-meeting-1/2030-02-06/
LOCATION:Arcadia City Hall\, 945 Dettloff Dr\, Arcadia\, WI\, 54612
CATEGORIES:City Council Meetings
ATTACH;FMTTYPE=image/jpeg:https://www.cityofarcadiawi.gov/wp-content/uploads/city-council-meeting-featured.jpg
END:VEVENT
BEGIN:VEVENT
DTSTART;TZID=America/Chicago:20300213T170000
DTEND;TZID=America/Chicago:20300213T200000
DTSTAMP:20260419T153349
CREATED:20251020T162504Z
LAST-MODIFIED:20251119T171015Z
UID:10000303-1897232400-1897243200@www.cityofarcadiawi.gov
SUMMARY:Municipal Court
DESCRIPTION:
URL:https://www.cityofarcadiawi.gov/event/municipal-court/2030-02-13/
LOCATION:Arcadia City Hall\, 945 Dettloff Dr\, Arcadia\, WI\, 54612
CATEGORIES:Public Meetings
ATTACH;FMTTYPE=image/jpeg:https://www.cityofarcadiawi.gov/wp-content/uploads/municipal-court-featured.jpg
END:VEVENT
BEGIN:VEVENT
DTSTART;TZID=America/Chicago:20300220T170000
DTEND;TZID=America/Chicago:20300220T183000
DTSTAMP:20260419T153349
CREATED:20260106T192427Z
LAST-MODIFIED:20260106T192516Z
UID:10000579-1897837200-1897842600@www.cityofarcadiawi.gov
SUMMARY:City Council Meeting
DESCRIPTION:
URL:https://www.cityofarcadiawi.gov/event/city-council-meeting-3/2030-02-20/
LOCATION:Arcadia City Hall\, 945 Dettloff Dr\, Arcadia\, WI\, 54612
CATEGORIES:City Council Meetings
ATTACH;FMTTYPE=image/jpeg:https://www.cityofarcadiawi.gov/wp-content/uploads/city-council-meeting-featured.jpg
END:VEVENT
BEGIN:VEVENT
DTSTART;TZID=America/Chicago:20300306T083000
DTEND;TZID=America/Chicago:20300306T100000
DTSTAMP:20260419T153349
CREATED:20251020T161419Z
LAST-MODIFIED:20251119T171138Z
UID:10000054-1899016200-1899021600@www.cityofarcadiawi.gov
SUMMARY:Utility Commission Meeting
DESCRIPTION:
URL:https://www.cityofarcadiawi.gov/event/utility-commission-meeting/2030-03-06/
LOCATION:Arcadia City Hall\, 945 Dettloff Dr\, Arcadia\, WI\, 54612
CATEGORIES:Public Meetings
ATTACH;FMTTYPE=image/jpeg:https://www.cityofarcadiawi.gov/wp-content/uploads/utility-commision-meeting-featured.jpg
END:VEVENT
BEGIN:VEVENT
DTSTART;TZID=America/Chicago:20300306T170000
DTEND;TZID=America/Chicago:20300306T183000
DTSTAMP:20260419T153349
CREATED:20260106T192123Z
LAST-MODIFIED:20260106T192511Z
UID:10000463-1899046800-1899052200@www.cityofarcadiawi.gov
SUMMARY:City Council Meeting
DESCRIPTION:
URL:https://www.cityofarcadiawi.gov/event/city-council-meeting-1/2030-03-06/
LOCATION:Arcadia City Hall\, 945 Dettloff Dr\, Arcadia\, WI\, 54612
CATEGORIES:City Council Meetings
ATTACH;FMTTYPE=image/jpeg:https://www.cityofarcadiawi.gov/wp-content/uploads/city-council-meeting-featured.jpg
END:VEVENT
BEGIN:VEVENT
DTSTART;TZID=America/Chicago:20300313T170000
DTEND;TZID=America/Chicago:20300313T200000
DTSTAMP:20260419T153349
CREATED:20251020T162504Z
LAST-MODIFIED:20251119T171015Z
UID:10000304-1899651600-1899662400@www.cityofarcadiawi.gov
SUMMARY:Municipal Court
DESCRIPTION:
URL:https://www.cityofarcadiawi.gov/event/municipal-court/2030-03-13/
LOCATION:Arcadia City Hall\, 945 Dettloff Dr\, Arcadia\, WI\, 54612
CATEGORIES:Public Meetings
ATTACH;FMTTYPE=image/jpeg:https://www.cityofarcadiawi.gov/wp-content/uploads/municipal-court-featured.jpg
END:VEVENT
BEGIN:VEVENT
DTSTART;TZID=America/Chicago:20300320T170000
DTEND;TZID=America/Chicago:20300320T183000
DTSTAMP:20260419T153349
CREATED:20260106T192427Z
LAST-MODIFIED:20260106T192516Z
UID:10000580-1900256400-1900261800@www.cityofarcadiawi.gov
SUMMARY:City Council Meeting
DESCRIPTION:
URL:https://www.cityofarcadiawi.gov/event/city-council-meeting-3/2030-03-20/
LOCATION:Arcadia City Hall\, 945 Dettloff Dr\, Arcadia\, WI\, 54612
CATEGORIES:City Council Meetings
ATTACH;FMTTYPE=image/jpeg:https://www.cityofarcadiawi.gov/wp-content/uploads/city-council-meeting-featured.jpg
END:VEVENT
BEGIN:VEVENT
DTSTART;TZID=America/Chicago:20300403T083000
DTEND;TZID=America/Chicago:20300403T100000
DTSTAMP:20260419T153349
CREATED:20251020T161419Z
LAST-MODIFIED:20251119T171138Z
UID:10000055-1901435400-1901440800@www.cityofarcadiawi.gov
SUMMARY:Utility Commission Meeting
DESCRIPTION:
URL:https://www.cityofarcadiawi.gov/event/utility-commission-meeting/2030-04-03/
LOCATION:Arcadia City Hall\, 945 Dettloff Dr\, Arcadia\, WI\, 54612
CATEGORIES:Public Meetings
ATTACH;FMTTYPE=image/jpeg:https://www.cityofarcadiawi.gov/wp-content/uploads/utility-commision-meeting-featured.jpg
END:VEVENT
BEGIN:VEVENT
DTSTART;TZID=America/Chicago:20300403T170000
DTEND;TZID=America/Chicago:20300403T183000
DTSTAMP:20260419T153349
CREATED:20260106T192123Z
LAST-MODIFIED:20260106T192511Z
UID:10000464-1901466000-1901471400@www.cityofarcadiawi.gov
SUMMARY:City Council Meeting
DESCRIPTION:
URL:https://www.cityofarcadiawi.gov/event/city-council-meeting-1/2030-04-03/
LOCATION:Arcadia City Hall\, 945 Dettloff Dr\, Arcadia\, WI\, 54612
CATEGORIES:City Council Meetings
ATTACH;FMTTYPE=image/jpeg:https://www.cityofarcadiawi.gov/wp-content/uploads/city-council-meeting-featured.jpg
END:VEVENT
BEGIN:VEVENT
DTSTART;TZID=America/Chicago:20300410T170000
DTEND;TZID=America/Chicago:20300410T200000
DTSTAMP:20260419T153349
CREATED:20251020T162504Z
LAST-MODIFIED:20251119T171015Z
UID:10000305-1902070800-1902081600@www.cityofarcadiawi.gov
SUMMARY:Municipal Court
DESCRIPTION:
URL:https://www.cityofarcadiawi.gov/event/municipal-court/2030-04-10/
LOCATION:Arcadia City Hall\, 945 Dettloff Dr\, Arcadia\, WI\, 54612
CATEGORIES:Public Meetings
ATTACH;FMTTYPE=image/jpeg:https://www.cityofarcadiawi.gov/wp-content/uploads/municipal-court-featured.jpg
END:VEVENT
BEGIN:VEVENT
DTSTART;TZID=America/Chicago:20300417T170000
DTEND;TZID=America/Chicago:20300417T183000
DTSTAMP:20260419T153349
CREATED:20260106T192427Z
LAST-MODIFIED:20260106T192516Z
UID:10000581-1902675600-1902681000@www.cityofarcadiawi.gov
SUMMARY:City Council Meeting
DESCRIPTION:
URL:https://www.cityofarcadiawi.gov/event/city-council-meeting-3/2030-04-17/
LOCATION:Arcadia City Hall\, 945 Dettloff Dr\, Arcadia\, WI\, 54612
CATEGORIES:City Council Meetings
ATTACH;FMTTYPE=image/jpeg:https://www.cityofarcadiawi.gov/wp-content/uploads/city-council-meeting-featured.jpg
END:VEVENT
BEGIN:VEVENT
DTSTART;TZID=America/Chicago:20300501T083000
DTEND;TZID=America/Chicago:20300501T100000
DTSTAMP:20260419T153349
CREATED:20251020T161419Z
LAST-MODIFIED:20251119T171138Z
UID:10000056-1903854600-1903860000@www.cityofarcadiawi.gov
SUMMARY:Utility Commission Meeting
DESCRIPTION:
URL:https://www.cityofarcadiawi.gov/event/utility-commission-meeting/2030-05-01/
LOCATION:Arcadia City Hall\, 945 Dettloff Dr\, Arcadia\, WI\, 54612
CATEGORIES:Public Meetings
ATTACH;FMTTYPE=image/jpeg:https://www.cityofarcadiawi.gov/wp-content/uploads/utility-commision-meeting-featured.jpg
END:VEVENT
BEGIN:VEVENT
DTSTART;TZID=America/Chicago:20300501T170000
DTEND;TZID=America/Chicago:20300501T183000
DTSTAMP:20260419T153349
CREATED:20260106T192123Z
LAST-MODIFIED:20260106T192511Z
UID:10000465-1903885200-1903890600@www.cityofarcadiawi.gov
SUMMARY:City Council Meeting
DESCRIPTION:
URL:https://www.cityofarcadiawi.gov/event/city-council-meeting-1/2030-05-01/
LOCATION:Arcadia City Hall\, 945 Dettloff Dr\, Arcadia\, WI\, 54612
CATEGORIES:City Council Meetings
ATTACH;FMTTYPE=image/jpeg:https://www.cityofarcadiawi.gov/wp-content/uploads/city-council-meeting-featured.jpg
END:VEVENT
BEGIN:VEVENT
DTSTART;TZID=America/Chicago:20300508T170000
DTEND;TZID=America/Chicago:20300508T200000
DTSTAMP:20260419T153349
CREATED:20251020T162504Z
LAST-MODIFIED:20251119T171015Z
UID:10000306-1904490000-1904500800@www.cityofarcadiawi.gov
SUMMARY:Municipal Court
DESCRIPTION:
URL:https://www.cityofarcadiawi.gov/event/municipal-court/2030-05-08/
LOCATION:Arcadia City Hall\, 945 Dettloff Dr\, Arcadia\, WI\, 54612
CATEGORIES:Public Meetings
ATTACH;FMTTYPE=image/jpeg:https://www.cityofarcadiawi.gov/wp-content/uploads/municipal-court-featured.jpg
END:VEVENT
BEGIN:VEVENT
DTSTART;TZID=America/Chicago:20300515T170000
DTEND;TZID=America/Chicago:20300515T183000
DTSTAMP:20260419T153349
CREATED:20260106T192427Z
LAST-MODIFIED:20260106T192516Z
UID:10000582-1905094800-1905100200@www.cityofarcadiawi.gov
SUMMARY:City Council Meeting
DESCRIPTION:
URL:https://www.cityofarcadiawi.gov/event/city-council-meeting-3/2030-05-15/
LOCATION:Arcadia City Hall\, 945 Dettloff Dr\, Arcadia\, WI\, 54612
CATEGORIES:City Council Meetings
ATTACH;FMTTYPE=image/jpeg:https://www.cityofarcadiawi.gov/wp-content/uploads/city-council-meeting-featured.jpg
END:VEVENT
END:VCALENDAR